BEGIN:VCALENDAR
VERSION:2.0
PRODID:-//SRAG Tennis - ECPv6.2.0.1//NONSGML v1.0//EN
CALSCALE:GREGORIAN
METHOD:PUBLISH
X-WR-CALNAME:SRAG Tennis
X-ORIGINAL-URL:https://sragtennis.com
X-WR-CALDESC:Events for SRAG Tennis
REFRESH-INTERVAL;VALUE=DURATION:PT1H
X-Robots-Tag:noindex
X-PUBLISHED-TTL:PT1H
BEGIN:VTIMEZONE
TZID:Asia/Kolkata
BEGIN:STANDARD
TZOFFSETFROM:+0530
TZOFFSETTO:+0530
TZNAME:IST
DTSTART:20250101T000000
END:STANDARD
END:VTIMEZONE
BEGIN:VEVENT
DTSTART;VALUE=DATE:20251122
DTEND;VALUE=DATE:20251126
DTSTAMP:20260424T165321
CREATED:20250813T044808Z
LAST-MODIFIED:20251126T060258Z
UID:8417-1763769600-1764115199@sragtennis.com
SUMMARY:SRAG-GSTA State Ranking Tennis Tournament November 2025
DESCRIPTION:45 plus Draws \nMen’s 45 plus Singles\nMen’s 45 plus Doubles\n\n35 plus Draws \nMen’s 35 plus Singles \nMen’s 35 plus Doubles\n\nDoubles Draws\n Junior’s Doubles U-12\nJunior’s Doubles U-16\nMixed Doubles\n\nMen’s Draws\nMen’s  Singles\nMen’s  Doubles\n\nWomen’s Draw\nWomen’s Singles\nWomen’s Doubles\n\nBoy’s Draws\nBoy’s U/10  Singles\nBoy’s U/12  Singes\nBoy’s U/14  Singles\nBoy’s U/16 Singles\nBoy’s U/18  Singles\n\nGirl’s Draws\n Girl’s U/10  Singles\n Girl’s U/12  Singles\n Girl’s U/14  Singles\n Girl’s U/16  Singles\n Girl’s U/18  Singles\n\nU-8  Mix Draw\n U-8 Mix Singles
URL:https://sragtennis.com/event/nov/
LOCATION:Gujarat
END:VEVENT
END:VCALENDAR