BEGIN:VCALENDAR
VERSION:2.0
PRODID:-//SRAG Tennis - ECPv6.2.0.1//NONSGML v1.0//EN
CALSCALE:GREGORIAN
METHOD:PUBLISH
X-WR-CALNAME:SRAG Tennis
X-ORIGINAL-URL:https://sragtennis.com
X-WR-CALDESC:Events for SRAG Tennis
REFRESH-INTERVAL;VALUE=DURATION:PT1H
X-Robots-Tag:noindex
X-PUBLISHED-TTL:PT1H
BEGIN:VTIMEZONE
TZID:Asia/Kolkata
BEGIN:STANDARD
TZOFFSETFROM:+0530
TZOFFSETTO:+0530
TZNAME:IST
DTSTART:20210101T000000
END:STANDARD
END:VTIMEZONE
BEGIN:VEVENT
DTSTART;TZID=Asia/Kolkata:20210108T080000
DTEND;TZID=Asia/Kolkata:20210108T170000
DTSTAMP:20260421T211011
CREATED:20201231T105619Z
LAST-MODIFIED:20210219T084958Z
UID:3689-1610092800-1610125200@sragtennis.com
SUMMARY:All India Under 18 Series
DESCRIPTION:SRAG ALL INDIA UNDER 19 SERIES\nAhmedabad\nGujarat\nSRAG Tennis Academy\nDownload  Draw Schedule Sheet Click Here\nView / Download Fact Sheet Click Here \nTournament Entry Form Click Here \nMicrosoft Form Link / Google Form Link Click Here \n 
URL:https://sragtennis.com/event/all-india-under-19-series/
LOCATION:Central Tennis Courts\, SRAG Tennis\, Behind Vimurti Complex\, Gurukul Road.\, Ahmedabad\, 380052\, India
CATEGORIES:Championship
ATTACH;FMTTYPE=image/jpeg:https://sragtennis.com/wp-content/uploads/2021/02/player-1-1.jpg
END:VEVENT
END:VCALENDAR