BEGIN:VCALENDAR
VERSION:2.0
PRODID:-//SRAG Tennis - ECPv6.2.0.1//NONSGML v1.0//EN
CALSCALE:GREGORIAN
METHOD:PUBLISH
X-WR-CALNAME:SRAG Tennis
X-ORIGINAL-URL:https://sragtennis.com
X-WR-CALDESC:Events for SRAG Tennis
REFRESH-INTERVAL;VALUE=DURATION:PT1H
X-Robots-Tag:noindex
X-PUBLISHED-TTL:PT1H
BEGIN:VTIMEZONE
TZID:Asia/Kolkata
BEGIN:STANDARD
TZOFFSETFROM:+0530
TZOFFSETTO:+0530
TZNAME:IST
DTSTART:20250101T000000
END:STANDARD
END:VTIMEZONE
BEGIN:VEVENT
DTSTART;VALUE=DATE:20250125
DTEND;VALUE=DATE:20250129
DTSTAMP:20260424T090742
CREATED:20250101T155025Z
LAST-MODIFIED:20250129T155116Z
UID:8138-1737763200-1738108799@sragtennis.com
SUMMARY:SRAG-GSTA State Ranking Tennis Tournament January 2025
DESCRIPTION:45 plus Draws \nMen’s 45 plus Singles \n\n35 plus Draws \nMen’s 35 plus Singles \nMen’s 35 plus Doubles\n\nDoubles Draws\n Junior’s Doubles U-12\nJunior’s Doubles U-16\nMixed Doubles\n\nMen’s Draws\nMen’s  Singles\nMen’s  Doubles \n\nWomen’s Draw\nWomen’s Singles\nWomen’s Doubles\n\nBoy’s Draws\nBoy’s U/10  Singles\nBoy’s U/12  Singles\nBoy’s U/14  Singles\nBoy’s U/16 Singles\nBoy’s U/18  Singles\n\nGirl’s Draws\n Girl’s U/10  Singles\n Girl’s U/12  Singles\n Girl’s U/14  Singles\n Girl’s U/16  Singles\n\nU-8  Mix Draw\n U-8 Mix Singles
URL:https://sragtennis.com/event/jan/
LOCATION:Gujarat
END:VEVENT
END:VCALENDAR