BEGIN:VCALENDAR
VERSION:2.0
PRODID:-//SRAG Tennis - ECPv6.2.0.1//NONSGML v1.0//EN
CALSCALE:GREGORIAN
METHOD:PUBLISH
X-WR-CALNAME:SRAG Tennis
X-ORIGINAL-URL:https://sragtennis.com
X-WR-CALDESC:Events for SRAG Tennis
REFRESH-INTERVAL;VALUE=DURATION:PT1H
X-Robots-Tag:noindex
X-PUBLISHED-TTL:PT1H
BEGIN:VTIMEZONE
TZID:Asia/Kolkata
BEGIN:STANDARD
TZOFFSETFROM:+0530
TZOFFSETTO:+0530
TZNAME:IST
DTSTART:20240101T000000
END:STANDARD
END:VTIMEZONE
BEGIN:VEVENT
DTSTART;VALUE=DATE:20240824
DTEND;VALUE=DATE:20240828
DTSTAMP:20260424T033255
CREATED:20240509T133510Z
LAST-MODIFIED:20240907T060452Z
UID:7651-1724457600-1724803199@sragtennis.com
SUMMARY:SRAG-GSTA State Ranking Tennis Tournament August 2024
DESCRIPTION:45 plus Draws \nMen’s 45 plus Singles \nMen’s 45 plus Doubles\n\n35 plus Draws \nMen’s 35 plus Singles \nMen’s 35 plus Doubles\n\nOpen Doubles Draw\n Junior’s Doubles\nMixed Doubles \n\nMen’s Draws\nMen’s  Singles\nMen’s  Doubles \n\nWomen’s Draw\nWomen’s Singles\n\nBoy’s Draws\nBoy’s U/10  Singles\nBoy’s U/12  Singles\nBoy’s U/14  Singles\nBoy’s U/16 Singles\n\nGirl’s Draws\n Girl’s U/10  Singles\n Girl’s U/12  Singles\n Girl’s U/14  Singles\n Girl’s U/16  Singles\n\nU-8  Mix Draw\n U-8 Mix Singles
URL:https://sragtennis.com/event/august-draws-schedule/
LOCATION:Gujarat
END:VEVENT
END:VCALENDAR