BEGIN:VCALENDAR
VERSION:2.0
PRODID:-//SRAG Tennis - ECPv6.2.0.1//NONSGML v1.0//EN
CALSCALE:GREGORIAN
METHOD:PUBLISH
X-ORIGINAL-URL:https://sragtennis.com
X-WR-CALDESC:Events for SRAG Tennis
REFRESH-INTERVAL;VALUE=DURATION:PT1H
X-Robots-Tag:noindex
X-PUBLISHED-TTL:PT1H
BEGIN:VTIMEZONE
TZID:Asia/Kolkata
BEGIN:STANDARD
TZOFFSETFROM:+0530
TZOFFSETTO:+0530
TZNAME:IST
DTSTART:20240101T000000
END:STANDARD
END:VTIMEZONE
BEGIN:VEVENT
DTSTART;VALUE=DATE:20240615
DTEND;VALUE=DATE:20240619
DTSTAMP:20260424T004551
CREATED:20240509T133247Z
LAST-MODIFIED:20240619T143612Z
UID:7646-1718409600-1718755199@sragtennis.com
SUMMARY:SRAG-GSTA State Ranking Tennis Tournament June 2024
DESCRIPTION:45 plus Draws \nMen’s 45 plus Singles \nMen’s 45 plus Doubles\n\n35 plus Draws \nMen’s 35 plus Singles \nMen’s 35 plus Doubles\n\nOpen Doubles Draw\n Junior’s Doubles\nMixed Doubles\n\nMen’s Draws\nMen’s  Singles\nMen’s  Doubles\n\nWomen’s Draw\nWomen’s Singles\nWomen’s  Doubles\n\nBoy’s Draws\nBoy’s U/10  Singles\nBoy’s U/12  Singles\nBoy’s U/14  Singles\nBoy’s U/16 Singles\nBoy’s U/18  Singles\n\nGirl’s Draws\n Girl’s U/10  Singles\n Girl’s U/12  Singles\n Girl’s U/14  Singles\n Girl’s U/16  Singles\n Girl’s U/18  Singles\n\nU-8  Mix Draw\n U-8 Mix Singles
URL:https://sragtennis.com/event/june-draws-schedule/
LOCATION:Gujarat
END:VEVENT
END:VCALENDAR