BEGIN:VCALENDAR
VERSION:2.0
PRODID:-//SRAG Tennis - ECPv6.2.0.1//NONSGML v1.0//EN
CALSCALE:GREGORIAN
METHOD:PUBLISH
X-ORIGINAL-URL:https://sragtennis.com
X-WR-CALDESC:Events for SRAG Tennis
REFRESH-INTERVAL;VALUE=DURATION:PT1H
X-Robots-Tag:noindex
X-PUBLISHED-TTL:PT1H
BEGIN:VTIMEZONE
TZID:Asia/Kolkata
BEGIN:STANDARD
TZOFFSETFROM:+0530
TZOFFSETTO:+0530
TZNAME:IST
DTSTART:20230101T000000
END:STANDARD
END:VTIMEZONE
BEGIN:VEVENT
DTSTART;VALUE=DATE:20230729
DTEND;VALUE=DATE:20230802
DTSTAMP:20260423T105007
CREATED:20230722T114305Z
LAST-MODIFIED:20230803T154107Z
UID:6772-1690588800-1690934399@sragtennis.com
SUMMARY:SRAG-GSTA State Ranking Tennis Tournament July 2023
DESCRIPTION:45 plus Draws \nDraw Men’s 45 plus Singles \nDraw Men’s 45 plus Doubles\n\n35 plus Draws \nDraw Men’s 35 plus Singles \nDraw Men’s 35 plus Doubles\n\nMen’s Draws\nDraw Men’s  Singles\nDraw Men’s Doubles\n\nMix Doubles Draw\nDraw Mix Doubles \n\nWomen’s Draw\nDraw Women’s Singles \n\nBoy’s Draws\nDraw Boy’s U/10  Singles\nDraw Boy’s U/12  Singles\nDraw Boy’s U/14  Singles\nDraw Boy’s U/16  Singles\nDraw Boy’s U/18  Singles\n\nGirl’s Draws\nDraw Girl’s U/10  Singles\nDraw Girl’s U/12  Singles\nDraw Girl’s U/14  Singles\nDraw Girl’s U/16  Singles\nDraw Girl’s U/18  Singles
URL:https://sragtennis.com/event/srag-gsta-state-ranking-tennis-tournament-july-2023/
LOCATION:SRAG TENNIS ACADEMY\, SRAG TENNIS ACADEMY\, Nr Rajvi Tower\, Gurukul Road\, Memnagar\, Ahmedabad\, Gujarat\, 380052\, India
END:VEVENT
END:VCALENDAR