BEGIN:VCALENDAR
VERSION:2.0
PRODID:-//SRAG Tennis - ECPv6.2.0.1//NONSGML v1.0//EN
CALSCALE:GREGORIAN
METHOD:PUBLISH
X-WR-CALNAME:SRAG Tennis
X-ORIGINAL-URL:https://sragtennis.com
X-WR-CALDESC:Events for SRAG Tennis
REFRESH-INTERVAL;VALUE=DURATION:PT1H
X-Robots-Tag:noindex
X-PUBLISHED-TTL:PT1H
BEGIN:VTIMEZONE
TZID:Asia/Kolkata
BEGIN:STANDARD
TZOFFSETFROM:+0530
TZOFFSETTO:+0530
TZNAME:IST
DTSTART:20220101T000000
END:STANDARD
END:VTIMEZONE
BEGIN:VEVENT
DTSTART;VALUE=DATE:20221015
DTEND;VALUE=DATE:20221019
DTSTAMP:20260422T190745
CREATED:20221001T020814Z
LAST-MODIFIED:20221018T055720Z
UID:5804-1665792000-1666137599@sragtennis.com
SUMMARY:SRAG-GSTA State Ranking Tennis Tournament October.2022
DESCRIPTION:Women\,s Singles\n\n35 plus Draw \n\nMen’s 35 plus Singles\nMen’s 35 plus Doubles\n\nMen’s Draw\n Men’s  Singles\n Men’s  Doubles\n\nBoy’s Draw \n Boys U/10  Singles\nBoys U/12  Singles\nBoys U/14  Singles\nBoys U/16  Singles\nBoys U/18  Singles\n\nGirl’s  Singles U/10\nGirl’s  Singles U/12\nGirl’s  Singles U/14\nGirl’s  Singles U/16
URL:https://sragtennis.com/event/srag-gsta-state-ranking-tennis-tournament-october-2022/
LOCATION:SRAG TENNIS ACADEMY\, SRAG TENNIS ACADEMY\, Nr Rajvi Tower\, Gurukul Road\, Memnagar\, Ahmedabad\, Gujarat\, 380052\, India
END:VEVENT
END:VCALENDAR