BEGIN:VCALENDAR
VERSION:2.0
PRODID:-//SRAG Tennis - ECPv6.2.0.1//NONSGML v1.0//EN
CALSCALE:GREGORIAN
METHOD:PUBLISH
X-WR-CALNAME:SRAG Tennis
X-ORIGINAL-URL:https://sragtennis.com
X-WR-CALDESC:Events for SRAG Tennis
REFRESH-INTERVAL;VALUE=DURATION:PT1H
X-Robots-Tag:noindex
X-PUBLISHED-TTL:PT1H
BEGIN:VTIMEZONE
TZID:Asia/Kolkata
BEGIN:STANDARD
TZOFFSETFROM:+0530
TZOFFSETTO:+0530
TZNAME:IST
DTSTART:20220101T000000
END:STANDARD
END:VTIMEZONE
BEGIN:VEVENT
DTSTART;VALUE=DATE:20220618
DTEND;VALUE=DATE:20220622
DTSTAMP:20260422T035522
CREATED:20220604T114806Z
LAST-MODIFIED:20220621T140913Z
UID:5130-1655510400-1655855999@sragtennis.com
SUMMARY:SRAG-GSTA State Ranking Tennis Tournament June.2022
DESCRIPTION:   Women’s Singles \n\nMen’s 35 plus Singles\nMen’s 35 plus Doubles\n\nMen’s  Singles\nMen’s  Doubles\n\nBoy’s  Singles U/10\nBoy’s  Singles U/12\nBoy’s  Singles U/14\nBoy’s  Singles U/16\nBoy’s  Singles U/18\n\nGirl’s  Singles U/10\nGirl’s  Singles U/12\nGirl’s  Singles U/14\nGirl’s  Singles U/16\n 
URL:https://sragtennis.com/event/srag-gsta-state-ranking-tennis-tournament-june-2022/
LOCATION:SRAG TENNIS ACADEMY\, SRAG TENNIS ACADEMY\, Nr Rajvi Tower\, Gurukul Road\, Memnagar\, Ahmedabad\, Gujarat\, 380052\, India
END:VEVENT
END:VCALENDAR