BEGIN:VCALENDAR
VERSION:2.0
PRODID:-//SRAG Tennis - ECPv6.2.0.1//NONSGML v1.0//EN
CALSCALE:GREGORIAN
METHOD:PUBLISH
X-ORIGINAL-URL:https://sragtennis.com
X-WR-CALDESC:Events for SRAG Tennis
REFRESH-INTERVAL;VALUE=DURATION:PT1H
X-Robots-Tag:noindex
X-PUBLISHED-TTL:PT1H
BEGIN:VTIMEZONE
TZID:Asia/Kolkata
BEGIN:STANDARD
TZOFFSETFROM:+0530
TZOFFSETTO:+0530
TZNAME:IST
DTSTART:20220101T000000
END:STANDARD
END:VTIMEZONE
BEGIN:VEVENT
DTSTART;VALUE=DATE:20220422
DTEND;VALUE=DATE:20220427
DTSTAMP:20260422T005832
CREATED:20220331T044449Z
LAST-MODIFIED:20230227T151012Z
UID:4909-1650585600-1651017599@sragtennis.com
SUMMARY:SRAG-GSTA State Ranking Tennis Tournament April.2022
DESCRIPTION:35 plus Draws \nDraw Men’s 35 plus Singles\nDraw Men’s 35 plus Doubles\n\nMen’s Draws\nDraw Men’s  Singles\nDraw Men’s Doubles\n\nBOY’s Draws\nDraw Boys U/10  Singles\nDraw Boys U/12  Singles\n\nDraw Boys U/18  Singles\n\nGirl’s Draws\nDraw Girls U/10  Singles\nDraw Girls U/12  Singles\nDraw Girls U/14  Singles\nDraw Girls U/18  Singles\n 
URL:https://sragtennis.com/event/srag-gsta-state-ranking-tennis-tournament-april-2022/
LOCATION:SRAG TENNIS ACADEMY\, SRAG TENNIS ACADEMY\, Nr Rajvi Tower\, Gurukul Road\, Memnagar\, Ahmedabad\, Gujarat\, 380052\, India
END:VEVENT
END:VCALENDAR