BEGIN:VCALENDAR
VERSION:2.0
PRODID:-//SRAG Tennis - ECPv6.2.0.1//NONSGML v1.0//EN
CALSCALE:GREGORIAN
METHOD:PUBLISH
X-WR-CALNAME:SRAG Tennis
X-ORIGINAL-URL:https://sragtennis.com
X-WR-CALDESC:Events for SRAG Tennis
REFRESH-INTERVAL;VALUE=DURATION:PT1H
X-Robots-Tag:noindex
X-PUBLISHED-TTL:PT1H
BEGIN:VTIMEZONE
TZID:Asia/Kolkata
BEGIN:STANDARD
TZOFFSETFROM:+0530
TZOFFSETTO:+0530
TZNAME:IST
DTSTART:20220101T000000
END:STANDARD
END:VTIMEZONE
BEGIN:VEVENT
DTSTART;VALUE=DATE:20220226
DTEND;VALUE=DATE:20220228
DTSTAMP:20260421T221236
CREATED:20220221T113854Z
LAST-MODIFIED:20220227T132753Z
UID:4593-1645833600-1646006399@sragtennis.com
SUMMARY:Friendship Matches Season-2\,2022
DESCRIPTION:Draw 70+ Doubles \nDraw 90+ Doubles \nDraw 100+ Doubles
URL:https://sragtennis.com/event/friendship-matches-season-22022/
LOCATION:SRAG TENNIS ACADEMY\, SRAG TENNIS ACADEMY\, Nr Rajvi Tower\, Gurukul Road\, Memnagar\, Ahmedabad\, Gujarat\, 380052\, India
END:VEVENT
END:VCALENDAR