BEGIN:VCALENDAR
VERSION:2.0
PRODID:-//SRAG Tennis - ECPv6.2.0.1//NONSGML v1.0//EN
CALSCALE:GREGORIAN
METHOD:PUBLISH
X-ORIGINAL-URL:https://sragtennis.com
X-WR-CALDESC:Events for SRAG Tennis
REFRESH-INTERVAL;VALUE=DURATION:PT1H
X-Robots-Tag:noindex
X-PUBLISHED-TTL:PT1H
BEGIN:VTIMEZONE
TZID:Asia/Kolkata
BEGIN:STANDARD
TZOFFSETFROM:+0530
TZOFFSETTO:+0530
TZNAME:IST
DTSTART:20210101T000000
END:STANDARD
END:VTIMEZONE
BEGIN:VEVENT
DTSTART;VALUE=DATE:20211224
DTEND;VALUE=DATE:20211229
DTSTAMP:20260421T192632
CREATED:20211213T030214Z
LAST-MODIFIED:20211231T140944Z
UID:4261-1640304000-1640735999@sragtennis.com
SUMMARY:SRAG-GSTA State Ranking Tennis Tournament Dec.2021
DESCRIPTION:DRAW BOYS 10       \nDRAW BOYS 12\nDRAW BOYS 14\nDRAW BOYS 18\nMEN’S SINGLES\nMEN’S DOUBLES\nDRAW GIRLS 10\nDRAW GIRLS 12\nDRAW GIRLS 14\nDRAW GIRLS 18
URL:https://sragtennis.com/event/srag-gsta-state-ranking-tennis-tournament-24th-dec-2021/
LOCATION:Gujarat
END:VEVENT
END:VCALENDAR